BEGIN:VCALENDAR
VERSION:2.0
PRODID:-//Skive Handel - ECPv6.13.2.1//NONSGML v1.0//EN
CALSCALE:GREGORIAN
METHOD:PUBLISH
X-ORIGINAL-URL:https://skivehandel.dk
X-WR-CALDESC:Begivenheder for Skive Handel
REFRESH-INTERVAL;VALUE=DURATION:PT1H
X-Robots-Tag:noindex
X-PUBLISHED-TTL:PT1H
BEGIN:VTIMEZONE
TZID:Europe/Copenhagen
BEGIN:DAYLIGHT
TZOFFSETFROM:+0100
TZOFFSETTO:+0200
TZNAME:CEST
DTSTART:20240331T010000
END:DAYLIGHT
BEGIN:STANDARD
TZOFFSETFROM:+0200
TZOFFSETTO:+0100
TZNAME:CET
DTSTART:20241027T010000
END:STANDARD
END:VTIMEZONE
BEGIN:VEVENT
DTSTART;TZID=Europe/Copenhagen:20241221T110000
DTEND;TZID=Europe/Copenhagen:20241223T170000
DTSTAMP:20260424T062951
CREATED:20241107T102046Z
LAST-MODIFIED:20250121T110137Z
UID:21509-1734778800-1734973200@skivehandel.dk
SUMMARY:Julemandens postkontor i Adelgade
DESCRIPTION:Åbningstider:\n21. 22. og 23. december\nkl. 11.00 – 17.00 \nAktiviteten er støttet af Skive Kommunes bydelspulje og Sparvest Fonden
URL:https://skivehandel.dk/event/julemandens-postkontor-i-adelgade-2/
LOCATION:Skive Gågade\, Adelgade\, Skive\, 7800
CATEGORIES:Familie events
ATTACH;FMTTYPE=image/jpeg:https://skivehandel.dk/wp-content/uploads/2024/10/Julemandens-kontor.jpg
END:VEVENT
END:VCALENDAR