BEGIN:VCALENDAR
VERSION:2.0
PRODID:-//Skive Handel - ECPv6.13.2.1//NONSGML v1.0//EN
CALSCALE:GREGORIAN
METHOD:PUBLISH
X-ORIGINAL-URL:https://skivehandel.dk
X-WR-CALDESC:Begivenheder for Skive Handel
REFRESH-INTERVAL;VALUE=DURATION:PT1H
X-Robots-Tag:noindex
X-PUBLISHED-TTL:PT1H
BEGIN:VTIMEZONE
TZID:Europe/Copenhagen
BEGIN:DAYLIGHT
TZOFFSETFROM:+0100
TZOFFSETTO:+0200
TZNAME:CEST
DTSTART:20220327T010000
END:DAYLIGHT
BEGIN:STANDARD
TZOFFSETFROM:+0200
TZOFFSETTO:+0100
TZNAME:CET
DTSTART:20221030T010000
END:STANDARD
END:VTIMEZONE
BEGIN:VEVENT
DTSTART;TZID=Europe/Copenhagen:20221217T100000
DTEND;TZID=Europe/Copenhagen:20221217T170000
DTSTAMP:20260425T200738
CREATED:20221207T090443Z
LAST-MODIFIED:20221207T090609Z
UID:20419-1671271200-1671296400@skivehandel.dk
SUMMARY:Julemarked på Rådhustorvet
DESCRIPTION:Lokale butikker fra Skive er gået sammen om at stable et lokalt julemarked på benene den sidste weekend op til jul. \nRådhustorvet bliver fyldt op med boder\, der både byder på noget godt til ganen samt spændende ting til julen eller de sidste julegaver.\nHvem er det så\, I kan møde på torvet denne weekend?\nDet er blandt andet:\n– Søegaards Vinhus\n– Potten\n– Kaffemøllen\n– Hovmøllers Blomster\n– Vesterhavskunst (keramik)\n– KB Designs (filt)\n– Niels Peter Vistisen (træhåndværk)\n– Salg af juletræer\n\nDerudover kommer Jyske Banks maskotter også og deler pebernødder ud til børnene. 
URL:https://skivehandel.dk/event/julemarked-paa-raadhustorvet-2/
LOCATION:Rådhustorvet\, Torvestræde 2\, Skive\, 7800\, Danmark
CATEGORIES:Familie events,Mad,Shopping
ATTACH;FMTTYPE=image/jpeg:https://skivehandel.dk/wp-content/uploads/2022/12/dreamstime_xxl_104748717-scaled.jpg
ORGANIZER;CN="Skive Handel":MAILTO:info@skivehandel.dk
END:VEVENT
BEGIN:VEVENT
DTSTART;TZID=Europe/Copenhagen:20221217T110000
DTEND;TZID=Europe/Copenhagen:20221217T150000
DTSTAMP:20260425T200738
CREATED:20221207T091501Z
LAST-MODIFIED:20221207T091501Z
UID:20431-1671274800-1671289200@skivehandel.dk
SUMMARY:Zalmovs nisseparade
DESCRIPTION:Lørdag d. 17. december kan du møde julemanden og nissemor\, når de kommer rundt i byen med deres lille vogn trukket af den sødeste lille hest. \nKom ind forbi og hils på\, når de kommer gennem byens gader.
URL:https://skivehandel.dk/event/zalmovs-nisseparade/
LOCATION:Skive Gågade\, Adelgade\, Skive\, 7800
CATEGORIES:Events for Børn,Familie events,Kultur,Shopping
ATTACH;FMTTYPE=image/jpeg:https://skivehandel.dk/wp-content/uploads/2022/12/Zalmovs.jpg
ORGANIZER;CN="Skive Handel":MAILTO:info@skivehandel.dk
END:VEVENT
BEGIN:VEVENT
DTSTART;TZID=Europe/Copenhagen:20221217T130000
DTEND;TZID=Europe/Copenhagen:20221217T153000
DTSTAMP:20260425T200738
CREATED:20221214T111458Z
LAST-MODIFIED:20221214T111458Z
UID:20442-1671282000-1671291000@skivehandel.dk
SUMMARY:Gæt en julenisse
DESCRIPTION:Hvem er det mon\, der gemmer sig bag nisseskægget? Ja\, det er jo et godt spørgsmål. \nSkive Handel har sammen med Skive Folkeblad fået stablet et hyggeligt event på benene lørdag d. 17. december\, hvor det handler om at gætte\, hvem der gemmer sig bag nisseskægget.\nVi har fået 9 modige handelsdrivende til at iklæde sig nissekostume og skæg\, for derefter at gå catwalk hen gennem byens gader. \nJeres opgave er så at gætte\, hvem der gemmer sig bag de forskellige skæg.\nSkive Folkeblad har fået lavet kuponerne\, som du kan finde på Rådhustorvet. Herefter er det “bare” at se\, om du kan matche de 9 forskellige nisser på papiret med dem\, der kommer gående gennem byen. \nNisserne kommer til at gå i grupper af 3 i henholdsvis 20 minutter\, så der er tid til at studere dem lidt ekstra.\nDen første gruppe nisser går fra kl. 13.00-13.20\,\nden anden gruppe nisser fra kl. 13.20-13.40\nog den sidste gruppe nisser fra kl. 13.40-14.00. \nDe udfyldte kuponer afleveres i postkassen på Rådhustorvet – og skal afleveres senest kl. 14. Herefter tæller vi sammen og ser\, hvem der har fået flest rigtige nisser på sin seddel. \nKl. 15.00 vil der være udtrækning på Rådhustorvet – og her gælder det om at være til stede. For hvis dit navn udtrækkes\, og du ikke er til stede på torvet – så trækker vi en ny vinder i stedet. \nKom derfor og vær med til lidt nissesjov i byen fra kl. 13-15.30\, når vi fylder byen med julenisser. \nDer vil være gevinster på spil fra flere af byens butikker.
URL:https://skivehandel.dk/event/gaet-en-julenisse/
LOCATION:Rådhustorvet\, Torvestræde 2\, Skive\, 7800\, Danmark
CATEGORIES:Familie events,Shopping
ATTACH;FMTTYPE=image/jpeg:https://skivehandel.dk/wp-content/uploads/2022/12/Nissekonkurrence-266x180-1-scaled.jpg
ORGANIZER;CN="Skive Handel":MAILTO:info@skivehandel.dk
END:VEVENT
END:VCALENDAR