BEGIN:VCALENDAR
VERSION:2.0
PRODID:-//Skive Handel - ECPv6.13.2.1//NONSGML v1.0//EN
CALSCALE:GREGORIAN
METHOD:PUBLISH
X-ORIGINAL-URL:https://skivehandel.dk
X-WR-CALDESC:Begivenheder for Skive Handel
REFRESH-INTERVAL;VALUE=DURATION:PT1H
X-Robots-Tag:noindex
X-PUBLISHED-TTL:PT1H
BEGIN:VTIMEZONE
TZID:Europe/Copenhagen
BEGIN:DAYLIGHT
TZOFFSETFROM:+0100
TZOFFSETTO:+0200
TZNAME:CEST
DTSTART:20220327T010000
END:DAYLIGHT
BEGIN:STANDARD
TZOFFSETFROM:+0200
TZOFFSETTO:+0100
TZNAME:CET
DTSTART:20221030T010000
END:STANDARD
END:VTIMEZONE
BEGIN:VEVENT
DTSTART;TZID=Europe/Copenhagen:20221209T160000
DTEND;TZID=Europe/Copenhagen:20221209T170000
DTSTAMP:20260425T200921
CREATED:20221129T120648Z
LAST-MODIFIED:20221207T090647Z
UID:20371-1670601600-1670605200@skivehandel.dk
SUMMARY:Nisseparade og julerier i byen
DESCRIPTION:Fredag d. 9. december sker der igen noget i gågaden i Skive. Her får vi besøg af Skives helt egen YouTube-julemand ‘Julemanden fra Skive’. \nHan gemmer sig et sted\, der hvor Nordbanevej og Nørregade mødes – og hvis vi er heldige\, så kan vi måske få ham kaldt frem fra sit skjul?\nHan er dog en bestemt julemand\, og han har allerede nævnt at han kun kommer frem\, hvis børnene har husket deres nissehuer.\nGrib derfor nissehuen\, sæt den på hovedet og vær med når vi sætter gang i nisseparade gennem byen sammen med Ungdomsskolen og Trako.\nNissehuen kan være ekstra vigtig denne dag\, da vi ved afslutningen af nisseparaden kårer nogle af de bedste\, sjoveste\, sejeste\, hyggeligste nisser. Vinderne får gavekort til Skive Handel. \nVi kalder på julemanden kl. 16\, og når han er kommet frem fra sit skjul samles vi i én stor flok og bevæger os til tonerne af julens musik og Skives helt egen julesang gennem byens gader – helt hen til skøjtebanen. \nDet er nemlig også denne fredag\, at der er skøjtedisko på skøjtebanen. Skøjtediskoet plejer normalt kun at være for 7.-9. klasserne\, men vi har lavet en aftale med Ungdomsskolen om\, at de starter musikken allerede omkring kl. 16\, så den er klar\, når vi ankommer sammen med julemanden. \nProgram:\n16.00 Vi kalder på julemanden\n16.10 Nisseparaden begynder sin gang gennem byens gader hen til skøjtebanen\n16.30 Vi når skøjtebanen\, hvor vi kårer vinderne fra nisseparaden\n16.40 Vi tager billeder af vinderne sammen med julemanden\n16.45 Ungdomsskolen åbner for skøjtesjov på skøjtebanen (kl. 19 omdannes skøjtebanen til skøjtedisko for 7.-9. klasserne)\n17.00 Julemanden takker af for i dag.
URL:https://skivehandel.dk/event/nisseparade-og-julerier-i-byen/
LOCATION:Skive Gågade\, Adelgade\, Skive\, 7800
CATEGORIES:Events for Børn,Familie events,Musik,Shopping
ATTACH;FMTTYPE=image/jpeg:https://skivehandel.dk/wp-content/uploads/2022/11/julemanden-fra-skive.jpg
ORGANIZER;CN="Skive Handel":MAILTO:info@skivehandel.dk
END:VEVENT
END:VCALENDAR