BEGIN:VCALENDAR
VERSION:2.0
PRODID:-//Skive Handel - ECPv6.13.2.1//NONSGML v1.0//EN
CALSCALE:GREGORIAN
METHOD:PUBLISH
X-WR-CALNAME:Skive Handel
X-ORIGINAL-URL:https://skivehandel.dk
X-WR-CALDESC:Begivenheder for Skive Handel
REFRESH-INTERVAL;VALUE=DURATION:PT1H
X-Robots-Tag:noindex
X-PUBLISHED-TTL:PT1H
BEGIN:VTIMEZONE
TZID:Europe/Copenhagen
BEGIN:DAYLIGHT
TZOFFSETFROM:+0100
TZOFFSETTO:+0200
TZNAME:CEST
DTSTART:20230326T010000
END:DAYLIGHT
BEGIN:STANDARD
TZOFFSETFROM:+0200
TZOFFSETTO:+0100
TZNAME:CET
DTSTART:20231029T010000
END:STANDARD
END:VTIMEZONE
BEGIN:VEVENT
DTSTART;TZID=Europe/Copenhagen:20230801T150000
DTEND;TZID=Europe/Copenhagen:20230801T170000
DTSTAMP:20260425T053314
CREATED:20230427T124141Z
LAST-MODIFIED:20230504T105653Z
UID:20701-1690902000-1690909200@skivehandel.dk
SUMMARY:Hawkeye and Hoe
DESCRIPTION:Hawkeye and Hoe\, som denne dynamiske duo kalder sig\, har de seneste to årtier spillet de Nordeuropæiske pubscener tynde med stor succes. I alt 1.200 jobs og fem albumudgivelser er det blevet til. Stilen er country og bluegrass med et bredt repertoire af drikkeviser og -sange\, klassiske publikumskendinge\, irske sange og swingende Rock’n’Roll. En optræden med Hawkeye and Hoe er altid på publikums præmisser. Repertoiret bliver udført på et stort udvalg af originale instrumenter: akustiske og elektriske guitarer\, 5-strengsbanjo og dobbelt bas. Det er ikke tilfældigt\, at Hawkeye and Hoe har fået et ry som et af de hårdest arbejdende og mest underholdende tilbud på den danske pubscene.
URL:https://skivehandel.dk/event/hawkeye-and-hoe/
LOCATION:Rådhustorvet\, Torvestræde 2\, Skive\, 7800\, Danmark
CATEGORIES:Familie events,Musik
ATTACH;FMTTYPE=image/jpeg:https://skivehandel.dk/wp-content/uploads/2023/04/Hawkeye-Hoe-billede.jpg
ORGANIZER;CN="Skive Handel":MAILTO:info@skivehandel.dk
END:VEVENT
END:VCALENDAR