BEGIN:VCALENDAR
VERSION:2.0
PRODID:-//Skive Handel - ECPv6.13.2.1//NONSGML v1.0//EN
CALSCALE:GREGORIAN
METHOD:PUBLISH
X-WR-CALNAME:Skive Handel
X-ORIGINAL-URL:https://skivehandel.dk
X-WR-CALDESC:Begivenheder for Skive Handel
REFRESH-INTERVAL;VALUE=DURATION:PT1H
X-Robots-Tag:noindex
X-PUBLISHED-TTL:PT1H
BEGIN:VTIMEZONE
TZID:Europe/Copenhagen
BEGIN:DAYLIGHT
TZOFFSETFROM:+0100
TZOFFSETTO:+0200
TZNAME:CEST
DTSTART:20220327T010000
END:DAYLIGHT
BEGIN:STANDARD
TZOFFSETFROM:+0200
TZOFFSETTO:+0100
TZNAME:CET
DTSTART:20221030T010000
END:STANDARD
END:VTIMEZONE
BEGIN:VEVENT
DTSTART;TZID=Europe/Copenhagen:20221203T120000
DTEND;TZID=Europe/Copenhagen:20221203T143000
DTSTAMP:20260425T184755
CREATED:20221122T105316Z
LAST-MODIFIED:20221122T105316Z
UID:20364-1670068800-1670077800@skivehandel.dk
SUMMARY:Julemanden kommer til byen
DESCRIPTION:Ho ho ho!\nJulemanden har igen i år fået lavet en aftale med den rare togmand om\, at han bliver sat af toget på Skive Station lørdag d. 3. december kl. 12.31.\nHan håber rigtig meget på\, at der vil være en masse nissehue klædte børn\, der spændte står klar til at tage imod ham ved toget. \nJulemanden kan godt få lidt ondt i benene\, hvis han skal gå for meget rundt – især hvis lommerne er fyldte med karameller til børnene\, og derfor har han arrangeret\, at den flotte\, gamle brandbil fra Skive Brandvæsen endnu gang står klar til at hjælpe ham rundt i byen. \nProgram:\n12.00 Den gamle brandbil ankommer på Skive Station og der spilles julemusik\n12.31 Julemanden ankommer med toget\n12.50 Julemanden kører i den gamle Brandbil op i byen med alle børnene gående efter brandbilen\n13.15 Brandbilen og julemanden stopper på Rådhustovet\, hvor der danses om juletræ. Kan I alle huske teksten til ‘På loftet sidder nissen…’?\nJulemanden kører herefter videre rundt i byen med brandbilen inden han til sidst går rundt og deler de sidste karameller ud og hilser på børnene. \nAfslutning forventet omkring kl. 14.30.
URL:https://skivehandel.dk/event/julemanden-kommer-til-byen/
LOCATION:Skive Station\, Søndergade 16C\, Skive\, Skive\, 7800\, Danmark
CATEGORIES:Events for Børn,Familie events
ATTACH;FMTTYPE=image/jpeg:https://skivehandel.dk/wp-content/uploads/2022/11/Julemanden-scaled.jpg
ORGANIZER;CN="Skive Handel":MAILTO:info@skivehandel.dk
END:VEVENT
BEGIN:VEVENT
DTSTART;TZID=Europe/Copenhagen:20221209T160000
DTEND;TZID=Europe/Copenhagen:20221209T170000
DTSTAMP:20260425T184755
CREATED:20221129T120648Z
LAST-MODIFIED:20221207T090647Z
UID:20371-1670601600-1670605200@skivehandel.dk
SUMMARY:Nisseparade og julerier i byen
DESCRIPTION:Fredag d. 9. december sker der igen noget i gågaden i Skive. Her får vi besøg af Skives helt egen YouTube-julemand ‘Julemanden fra Skive’. \nHan gemmer sig et sted\, der hvor Nordbanevej og Nørregade mødes – og hvis vi er heldige\, så kan vi måske få ham kaldt frem fra sit skjul?\nHan er dog en bestemt julemand\, og han har allerede nævnt at han kun kommer frem\, hvis børnene har husket deres nissehuer.\nGrib derfor nissehuen\, sæt den på hovedet og vær med når vi sætter gang i nisseparade gennem byen sammen med Ungdomsskolen og Trako.\nNissehuen kan være ekstra vigtig denne dag\, da vi ved afslutningen af nisseparaden kårer nogle af de bedste\, sjoveste\, sejeste\, hyggeligste nisser. Vinderne får gavekort til Skive Handel. \nVi kalder på julemanden kl. 16\, og når han er kommet frem fra sit skjul samles vi i én stor flok og bevæger os til tonerne af julens musik og Skives helt egen julesang gennem byens gader – helt hen til skøjtebanen. \nDet er nemlig også denne fredag\, at der er skøjtedisko på skøjtebanen. Skøjtediskoet plejer normalt kun at være for 7.-9. klasserne\, men vi har lavet en aftale med Ungdomsskolen om\, at de starter musikken allerede omkring kl. 16\, så den er klar\, når vi ankommer sammen med julemanden. \nProgram:\n16.00 Vi kalder på julemanden\n16.10 Nisseparaden begynder sin gang gennem byens gader hen til skøjtebanen\n16.30 Vi når skøjtebanen\, hvor vi kårer vinderne fra nisseparaden\n16.40 Vi tager billeder af vinderne sammen med julemanden\n16.45 Ungdomsskolen åbner for skøjtesjov på skøjtebanen (kl. 19 omdannes skøjtebanen til skøjtedisko for 7.-9. klasserne)\n17.00 Julemanden takker af for i dag.
URL:https://skivehandel.dk/event/nisseparade-og-julerier-i-byen/
LOCATION:Skive Gågade\, Adelgade\, Skive\, 7800
CATEGORIES:Events for Børn,Familie events,Musik,Shopping
ATTACH;FMTTYPE=image/jpeg:https://skivehandel.dk/wp-content/uploads/2022/11/julemanden-fra-skive.jpg
ORGANIZER;CN="Skive Handel":MAILTO:info@skivehandel.dk
END:VEVENT
BEGIN:VEVENT
DTSTART;TZID=Europe/Copenhagen:20221216T100000
DTEND;TZID=Europe/Copenhagen:20221216T170000
DTSTAMP:20260425T184755
CREATED:20221207T090403Z
LAST-MODIFIED:20221207T090557Z
UID:20416-1671184800-1671210000@skivehandel.dk
SUMMARY:Julemarked på Rådhustorvet
DESCRIPTION:Lokale butikker fra Skive er gået sammen om at stable et lokalt julemarked på benene den sidste weekend op til jul. \nRådhustorvet bliver fyldt op med boder\, der både byder på noget godt til ganen samt spændende ting til julen eller de sidste julegaver.\nHvem er det så\, I kan møde på torvet denne weekend?\nDet er blandt andet:\n– Søegaards Vinhus\n– Potten\n– Kaffemøllen\n– Hovmøllers Blomster\n– Vesterhavskunst (keramik)\n– KB Designs (filt)\n– Niels Peter Vistisen (træhåndværk)\n– Salg af juletræer\n\nDerudover kommer Jyske Banks maskotter også og deler pebernødder ud til børnene. 
URL:https://skivehandel.dk/event/julemarked-paa-raadhustorvet/
LOCATION:Rådhustorvet\, Torvestræde 2\, Skive\, 7800\, Danmark
CATEGORIES:Familie events,Mad,Shopping
ATTACH;FMTTYPE=image/jpeg:https://skivehandel.dk/wp-content/uploads/2022/12/dreamstime_xxl_104748717-scaled.jpg
ORGANIZER;CN="Skive Handel":MAILTO:info@skivehandel.dk
END:VEVENT
BEGIN:VEVENT
DTSTART;TZID=Europe/Copenhagen:20221217T100000
DTEND;TZID=Europe/Copenhagen:20221217T170000
DTSTAMP:20260425T184755
CREATED:20221207T090443Z
LAST-MODIFIED:20221207T090609Z
UID:20419-1671271200-1671296400@skivehandel.dk
SUMMARY:Julemarked på Rådhustorvet
DESCRIPTION:Lokale butikker fra Skive er gået sammen om at stable et lokalt julemarked på benene den sidste weekend op til jul. \nRådhustorvet bliver fyldt op med boder\, der både byder på noget godt til ganen samt spændende ting til julen eller de sidste julegaver.\nHvem er det så\, I kan møde på torvet denne weekend?\nDet er blandt andet:\n– Søegaards Vinhus\n– Potten\n– Kaffemøllen\n– Hovmøllers Blomster\n– Vesterhavskunst (keramik)\n– KB Designs (filt)\n– Niels Peter Vistisen (træhåndværk)\n– Salg af juletræer\n\nDerudover kommer Jyske Banks maskotter også og deler pebernødder ud til børnene. 
URL:https://skivehandel.dk/event/julemarked-paa-raadhustorvet-2/
LOCATION:Rådhustorvet\, Torvestræde 2\, Skive\, 7800\, Danmark
CATEGORIES:Familie events,Mad,Shopping
ATTACH;FMTTYPE=image/jpeg:https://skivehandel.dk/wp-content/uploads/2022/12/dreamstime_xxl_104748717-scaled.jpg
ORGANIZER;CN="Skive Handel":MAILTO:info@skivehandel.dk
END:VEVENT
BEGIN:VEVENT
DTSTART;TZID=Europe/Copenhagen:20221217T110000
DTEND;TZID=Europe/Copenhagen:20221217T150000
DTSTAMP:20260425T184755
CREATED:20221207T091501Z
LAST-MODIFIED:20221207T091501Z
UID:20431-1671274800-1671289200@skivehandel.dk
SUMMARY:Zalmovs nisseparade
DESCRIPTION:Lørdag d. 17. december kan du møde julemanden og nissemor\, når de kommer rundt i byen med deres lille vogn trukket af den sødeste lille hest. \nKom ind forbi og hils på\, når de kommer gennem byens gader.
URL:https://skivehandel.dk/event/zalmovs-nisseparade/
LOCATION:Skive Gågade\, Adelgade\, Skive\, 7800
CATEGORIES:Events for Børn,Familie events,Kultur,Shopping
ATTACH;FMTTYPE=image/jpeg:https://skivehandel.dk/wp-content/uploads/2022/12/Zalmovs.jpg
ORGANIZER;CN="Skive Handel":MAILTO:info@skivehandel.dk
END:VEVENT
BEGIN:VEVENT
DTSTART;TZID=Europe/Copenhagen:20221217T130000
DTEND;TZID=Europe/Copenhagen:20221217T153000
DTSTAMP:20260425T184755
CREATED:20221214T111458Z
LAST-MODIFIED:20221214T111458Z
UID:20442-1671282000-1671291000@skivehandel.dk
SUMMARY:Gæt en julenisse
DESCRIPTION:Hvem er det mon\, der gemmer sig bag nisseskægget? Ja\, det er jo et godt spørgsmål. \nSkive Handel har sammen med Skive Folkeblad fået stablet et hyggeligt event på benene lørdag d. 17. december\, hvor det handler om at gætte\, hvem der gemmer sig bag nisseskægget.\nVi har fået 9 modige handelsdrivende til at iklæde sig nissekostume og skæg\, for derefter at gå catwalk hen gennem byens gader. \nJeres opgave er så at gætte\, hvem der gemmer sig bag de forskellige skæg.\nSkive Folkeblad har fået lavet kuponerne\, som du kan finde på Rådhustorvet. Herefter er det “bare” at se\, om du kan matche de 9 forskellige nisser på papiret med dem\, der kommer gående gennem byen. \nNisserne kommer til at gå i grupper af 3 i henholdsvis 20 minutter\, så der er tid til at studere dem lidt ekstra.\nDen første gruppe nisser går fra kl. 13.00-13.20\,\nden anden gruppe nisser fra kl. 13.20-13.40\nog den sidste gruppe nisser fra kl. 13.40-14.00. \nDe udfyldte kuponer afleveres i postkassen på Rådhustorvet – og skal afleveres senest kl. 14. Herefter tæller vi sammen og ser\, hvem der har fået flest rigtige nisser på sin seddel. \nKl. 15.00 vil der være udtrækning på Rådhustorvet – og her gælder det om at være til stede. For hvis dit navn udtrækkes\, og du ikke er til stede på torvet – så trækker vi en ny vinder i stedet. \nKom derfor og vær med til lidt nissesjov i byen fra kl. 13-15.30\, når vi fylder byen med julenisser. \nDer vil være gevinster på spil fra flere af byens butikker.
URL:https://skivehandel.dk/event/gaet-en-julenisse/
LOCATION:Rådhustorvet\, Torvestræde 2\, Skive\, 7800\, Danmark
CATEGORIES:Familie events,Shopping
ATTACH;FMTTYPE=image/jpeg:https://skivehandel.dk/wp-content/uploads/2022/12/Nissekonkurrence-266x180-1-scaled.jpg
ORGANIZER;CN="Skive Handel":MAILTO:info@skivehandel.dk
END:VEVENT
BEGIN:VEVENT
DTSTART;TZID=Europe/Copenhagen:20221218T100000
DTEND;TZID=Europe/Copenhagen:20221218T170000
DTSTAMP:20260425T184755
CREATED:20221207T090538Z
LAST-MODIFIED:20221207T090538Z
UID:20421-1671357600-1671382800@skivehandel.dk
SUMMARY:Julemarked på Rådhustorvet
DESCRIPTION:Lokale butikker fra Skive er gået sammen om at stable et lokalt julemarked på benene den sidste weekend op til jul. \nRådhustorvet bliver fyldt op med boder\, der både byder på noget godt til ganen samt spændende ting til julen eller de sidste julegaver.\nHvem er det så\, I kan møde på torvet denne weekend?\n\nDet er blandt andet:\n– Søegaards Vinhus\n– Potten\n– Kaffemøllen\n– Hovmøllers Blomster\n– Vesterhavskunst (keramik)\n– KB Designs (filt)\n– Niels Peter Vistisen (træhåndværk)\n– Salg af juletræer\n\nDerudover kommer Jyske Banks maskotter også og deler pebernødder ud til børnene. 
URL:https://skivehandel.dk/event/julemarked-paa-raadhustorvet-3/
LOCATION:Rådhustorvet\, Torvestræde 2\, Skive\, 7800\, Danmark
CATEGORIES:Familie events,Mad,Shopping
ATTACH;FMTTYPE=image/jpeg:https://skivehandel.dk/wp-content/uploads/2022/12/dreamstime_xxl_104748717-scaled.jpg
ORGANIZER;CN="Skive Handel":MAILTO:info@skivehandel.dk
END:VEVENT
BEGIN:VEVENT
DTSTART;TZID=Europe/Copenhagen:20221218T110000
DTEND;TZID=Europe/Copenhagen:20221218T150000
DTSTAMP:20260425T184755
CREATED:20221207T091604Z
LAST-MODIFIED:20221207T091604Z
UID:20434-1671361200-1671375600@skivehandel.dk
SUMMARY:Zalmovs nisseparade
DESCRIPTION:Søndag d. 18. december kan du møde julemanden og nissemor\, når de kommer rundt i byen med deres lille vogn trukket af den sødeste lille hest. \nKom ind forbi og hils på\, når de kommer gennem byens gader.
URL:https://skivehandel.dk/event/zalmovs-nisseparade-2/
LOCATION:Skive Gågade\, Adelgade\, Skive\, 7800
CATEGORIES:Events for Børn,Familie events,Kultur,Shopping
ATTACH;FMTTYPE=image/jpeg:https://skivehandel.dk/wp-content/uploads/2022/12/Zalmovs.jpg
ORGANIZER;CN="Skive Handel":MAILTO:info@skivehandel.dk
END:VEVENT
BEGIN:VEVENT
DTSTART;TZID=Europe/Copenhagen:20221222T140000
DTEND;TZID=Europe/Copenhagen:20221222T160000
DTSTAMP:20260425T184755
CREATED:20221207T092132Z
LAST-MODIFIED:20221207T092132Z
UID:20436-1671717600-1671724800@skivehandel.dk
SUMMARY:Julemanden deler karameller ud
DESCRIPTION:Han har været her før\, og nu kommer han igen sammen med sin dejlige nissekone. Torsdag d. 22. december kommer julemanden endnu engang forbi byen for at dele karameller ud til børnene – hvis de altså har været artige… \nFind ham og nissemor rundt i byens gader og butikker.
URL:https://skivehandel.dk/event/julemanden-deler-karameller-ud/
LOCATION:Skive Gågade\, Adelgade\, Skive\, 7800
CATEGORIES:Events for Børn,Familie events,Shopping
ATTACH;FMTTYPE=image/jpeg:https://skivehandel.dk/wp-content/uploads/2022/12/Julemanden-karameller-scaled.jpg
ORGANIZER;CN="Skive Handel":MAILTO:info@skivehandel.dk
END:VEVENT
BEGIN:VEVENT
DTSTART;TZID=Europe/Copenhagen:20221223T140000
DTEND;TZID=Europe/Copenhagen:20221223T160000
DTSTAMP:20260425T184755
CREATED:20221207T092234Z
LAST-MODIFIED:20221207T092234Z
UID:20439-1671804000-1671811200@skivehandel.dk
SUMMARY:Julemanden deler karameller ud
DESCRIPTION:Han har været her før\, og nu kommer han igen sammen med sin dejlige nissekone. Fredag d. 23. december kommer julemanden endnu engang forbi byen for at dele karameller ud til børnene – hvis de altså har været artige… \nFind ham og nissemor rundt i byens gader og butikker.
URL:https://skivehandel.dk/event/julemanden-deler-karameller-ud-2/
LOCATION:Skive Gågade\, Adelgade\, Skive\, 7800
CATEGORIES:Events for Børn,Familie events,Shopping
ATTACH;FMTTYPE=image/jpeg:https://skivehandel.dk/wp-content/uploads/2022/12/Julemanden-karameller-scaled.jpg
ORGANIZER;CN="Skive Handel":MAILTO:info@skivehandel.dk
END:VEVENT
END:VCALENDAR